BEGIN:VCALENDAR
VERSION:2.0
PRODID:-//DOWASCO Ltd. - ECPv6.15.20//NONSGML v1.0//EN
CALSCALE:GREGORIAN
METHOD:PUBLISH
X-WR-CALNAME:DOWASCO Ltd.
X-ORIGINAL-URL:https://dowasco.dm
X-WR-CALDESC:Events for DOWASCO Ltd.
REFRESH-INTERVAL;VALUE=DURATION:PT1H
X-Robots-Tag:noindex
X-PUBLISHED-TTL:PT1H
BEGIN:VTIMEZONE
TZID:America/Halifax
BEGIN:DAYLIGHT
TZOFFSETFROM:-0400
TZOFFSETTO:-0300
TZNAME:ADT
DTSTART:20230312T060000
END:DAYLIGHT
BEGIN:STANDARD
TZOFFSETFROM:-0300
TZOFFSETTO:-0400
TZNAME:AST
DTSTART:20231105T050000
END:STANDARD
BEGIN:DAYLIGHT
TZOFFSETFROM:-0400
TZOFFSETTO:-0300
TZNAME:ADT
DTSTART:20240310T060000
END:DAYLIGHT
BEGIN:STANDARD
TZOFFSETFROM:-0300
TZOFFSETTO:-0400
TZNAME:AST
DTSTART:20241103T050000
END:STANDARD
BEGIN:DAYLIGHT
TZOFFSETFROM:-0400
TZOFFSETTO:-0300
TZNAME:ADT
DTSTART:20250309T060000
END:DAYLIGHT
BEGIN:STANDARD
TZOFFSETFROM:-0300
TZOFFSETTO:-0400
TZNAME:AST
DTSTART:20251102T050000
END:STANDARD
END:VTIMEZONE
BEGIN:VEVENT
DTSTART;TZID=America/Halifax:20240808T090000
DTEND;TZID=America/Halifax:20240808T150000
DTSTAMP:20260423T125334
CREATED:20240807T120703Z
LAST-MODIFIED:20240807T120703Z
UID:6295-1723107600-1723129200@dowasco.dm
SUMMARY:System Maintenance - Laudat
DESCRIPTION:DOWASCO informs customers in LAUDAT that their water supply will be interrupted on Thursday\, August 8th\, 2024 between 9:00 a.m. and 3:00 p.m. to carry out system maintenance.\n\n\nCustomers are urged to store water for use during the downtime.\n\n\nDOWASCO regrets any inconvenience that may be caused and thanks customers for their cooperation and understanding.
URL:https://dowasco.dm/notice/system-maintenance-laudat-4/
CATEGORIES:Schedule Interuptions
END:VEVENT
BEGIN:VEVENT
DTSTART;TZID=America/Halifax:20240807T090000
DTEND;TZID=America/Halifax:20240807T150000
DTSTAMP:20260423T125334
CREATED:20240807T120543Z
LAST-MODIFIED:20240807T120543Z
UID:6293-1723021200-1723042800@dowasco.dm
SUMMARY:System Maintenance - Laudat
DESCRIPTION:DOWASCO informs customers in LAUDAT that their water supply will be interrupted on Wednesday\, August 7th 2024 between 9:00 a.m. and 3:00 p.m. to carry out system maintenance.\n\n\nCustomers are urged to store water for use during the downtime.\n\n\nDOWASCO regrets any inconvenience that may be caused and thanks customers for their cooperation and understanding.
URL:https://dowasco.dm/notice/system-maintenance-laudat-3/
CATEGORIES:Schedule Interuptions
END:VEVENT
BEGIN:VEVENT
DTSTART;TZID=America/Halifax:20240801T090000
DTEND;TZID=America/Halifax:20240801T150000
DTSTAMP:20260423T125334
CREATED:20240731T120836Z
LAST-MODIFIED:20240731T120836Z
UID:6285-1722502800-1722524400@dowasco.dm
SUMMARY:System Maintenance- Grand Bay\, Pichelin\, Geneva & Maranatha Square
DESCRIPTION:DOWASCO informs customers in GRAND BAY\, PICHELIN\, GENEVA and MARANATHA SQUARE that their water supply will be interrupted on Thursday\, August 1\, 2024 between 9:00 a.m. and 4:00 p.m. to carry out system maintenance.\n\n\nCustomers are encouraged to store water for use during the downtime.\n\n\nDOWASCO regrets any inconvenience that may be caused and thanks customers for their cooperation and understanding.
URL:https://dowasco.dm/notice/system-maintenance-grand-bay-pichelin-geneva-maranatha-square/
CATEGORIES:Schedule Interuptions
END:VEVENT
BEGIN:VEVENT
DTSTART;VALUE=DATE:20240801
DTEND;VALUE=DATE:20240802
DTSTAMP:20260423T125334
CREATED:20240801T135808Z
LAST-MODIFIED:20240801T135808Z
UID:6289-1722470400-1722556799@dowasco.dm
SUMMARY:WA1 Shutdown
DESCRIPTION:UPDATE – WA 1 SHUTDOWN DUE TO HEAVY SILTATION\n\n\nDOWASCO informs customers in communities served by the Water Area 1 network (MERO to CASTLE COMFORT) that they may experience interruption in their water supply today Thursday\, August 1 as this network has been shut down as of Wednesday\, July 31 to preserve water in storage.\n\n\n\nThis is as a result of heavy rainfall in the heights of Sylvania which has caused excessive siltation at the Springfield River. Customers may continue to be served by water in storage tanks but should expect interruption in service as storage volumes decrease.\n\n\n\nDOWASCO assures affected customers that every measure will be taken to resolve this challenge as quickly as possible. We will continue provide updates in this regard.\n\n\n\nWe regret the inconvenience and thank customers for their understanding in this matter.
URL:https://dowasco.dm/notice/wa1-shutdown/
CATEGORIES:Unscheduled Interuptions
END:VEVENT
BEGIN:VEVENT
DTSTART;VALUE=DATE:20240801
DTEND;VALUE=DATE:20240802
DTSTAMP:20260423T125334
CREATED:20240731T121453Z
LAST-MODIFIED:20240731T121453Z
UID:6287-1722470400-1722556799@dowasco.dm
SUMMARY:Disconnection Notice
DESCRIPTION:DOWASCO informs customers that Disconnections commence on Thursday\, August 1\, 2024.\n\n\nCustomers are reminded that accounts exceeding 30 days in arrears are liable to be disconnected. Outstanding balances plus a reconnection fee must be settled before reconnection.\nFor bill balances and additional information visit www.dowasco.dm or call 255 2900.
URL:https://dowasco.dm/notice/disconnection-notice/
END:VEVENT
BEGIN:VEVENT
DTSTART;TZID=America/Halifax:20240731T090000
DTEND;TZID=America/Halifax:20240731T150000
DTSTAMP:20260423T125334
CREATED:20240730T150831Z
LAST-MODIFIED:20240730T150831Z
UID:6283-1722416400-1722438000@dowasco.dm
SUMMARY:System Maintenance - Laudat
DESCRIPTION:DOWASCO informs customers in LAUDAT that their water supply will be interrupted on Wednesday July 31st\, 2024 between 9:00 a.m. and 3:00 p.m. to carry out system maintenance.\n\n\nCustomers are encouraged to store water for the downtime.\n\n\nDOWASCO regrets any inconvenience that may be caused and thanks customers for their cooperation and understanding.
URL:https://dowasco.dm/notice/system-maintenance-laudat-2/
CATEGORIES:Schedule Interuptions
END:VEVENT
BEGIN:VEVENT
DTSTART;TZID=America/Halifax:20240730T090000
DTEND;TZID=America/Halifax:20240730T150000
DTSTAMP:20260423T125334
CREATED:20240730T150731Z
LAST-MODIFIED:20240730T150731Z
UID:6281-1722330000-1722351600@dowasco.dm
SUMMARY:System Maintenance - Laudat
DESCRIPTION:DOWASCO informs customers in LAUDAT that their water supply will be interrupted on Tuesday July 30th  2024 between 9:00 a.m. and 3:00 p.m. to carry out system maintenance.\n\n\nCustomers are encouraged to store water for the downtime.\n\n\nDOWASCO regrets any inconvenience that may be caused and thanks customers for their cooperation and understanding.
URL:https://dowasco.dm/notice/system-maintenance-laudat/
CATEGORIES:Schedule Interuptions
END:VEVENT
BEGIN:VEVENT
DTSTART;TZID=America/Halifax:20240725T090000
DTEND;TZID=America/Halifax:20240725T150000
DTSTAMP:20260423T125334
CREATED:20240724T165050Z
LAST-MODIFIED:20240724T165050Z
UID:6277-1721898000-1721919600@dowasco.dm
SUMMARY:System Maintenance - Stockfarm Yampiece & Bellevue Rawle
DESCRIPTION:DOWASCO informs customers in STOCKFARM\, YAMPIECE and BELLEVUE RAWLE that their water supply will be interrupted on Thursday\, July 25\, 2024 between 9:00 a.m. and 3:00 p.m. to carry out system maintenance.\n\n\nCustomers who will be affected are urged to store water for use during the downtime.\n\n\nDOWASCO regrets any inconvenience which may be caused and thanks customers for their cooperation and understanding.
URL:https://dowasco.dm/notice/system-maintenance-stockfarm-yampiece-bellevue-rawle/
CATEGORIES:Schedule Interuptions
END:VEVENT
BEGIN:VEVENT
DTSTART;VALUE=DATE:20240724
DTEND;VALUE=DATE:20240725
DTSTAMP:20260423T125334
CREATED:20240724T120419Z
LAST-MODIFIED:20240724T120419Z
UID:6275-1721779200-1721865599@dowasco.dm
SUMMARY:System Maintenance - Goodwill & Trafalgar
DESCRIPTION:DOWASCO informs customers in GOODWILL and TRAFALGAR that their water supply will be interrupted on Wednesday\, July 24\, 2024 between 9:00 a.m. and 3:00 p.m. to carry out system maintenance.\n\n\nCustomers who will be affected are urged to store water for the downtime.\n\n\nDOWASCO regrets any inconvenience which may be caused and thanks customers for their cooperation and understanding.
URL:https://dowasco.dm/notice/system-maintenance-goodwill-trafalgar/
CATEGORIES:Schedule Interuptions
END:VEVENT
BEGIN:VEVENT
DTSTART;VALUE=DATE:20240718
DTEND;VALUE=DATE:20240719
DTSTAMP:20260423T125334
CREATED:20240718T183736Z
LAST-MODIFIED:20240718T183736Z
UID:6272-1721260800-1721347199@dowasco.dm
SUMMARY:Water Interruption - WA1
DESCRIPTION:DOWASCO informs the general public and customers in communities from MERO to CASTLE COMFORT (WA1) that they may experience water interruption or low water pressure today\, Thursday July 18\, 2024 as the water system has been shut down.\n\n\nThis shut down was necessary to protect the system from heavy siltation and high turbidity or muddy water at the Springfield intake following heavy rainfall.\n\n\nPlease be advised that elevated communities including WARNER\, ST AROMENT\, CASTLE COMFORT\, KINGSHILL\, FOND COLE are more likely to be affected.\nDOWASCO sincerely regrets any inconvenience caused and thanks customers for their understanding.
URL:https://dowasco.dm/notice/water-interruption-wa1/
CATEGORIES:Unscheduled Interuptions
END:VEVENT
BEGIN:VEVENT
DTSTART;VALUE=DATE:20240718
DTEND;VALUE=DATE:20240719
DTSTAMP:20260423T125334
CREATED:20240718T183607Z
LAST-MODIFIED:20240718T183607Z
UID:6270-1721260800-1721347199@dowasco.dm
SUMMARY:Water Interruption- Shawford & Trafalgar
DESCRIPTION:DOWASCO informs customers in SHAWFORD and TRAFALGAR that the frequent interruption in their water supply is due to a suspected challenge at the intake in TRAFALGAR. Affected customers are advised that DOWASCO has began investigations and will continue as soon as weather conditions improve.\n\n\nDOWASCO regrets the inconvenience and thanks customers for their patience and understanding in this matter.
URL:https://dowasco.dm/notice/water-interruption-shawford-trafalgar/
CATEGORIES:Unscheduled Interuptions
END:VEVENT
BEGIN:VEVENT
DTSTART;VALUE=DATE:20240710
DTEND;VALUE=DATE:20240711
DTSTAMP:20260423T125334
CREATED:20240710T153741Z
LAST-MODIFIED:20240710T153741Z
UID:6264-1720569600-1720655999@dowasco.dm
SUMMARY:Water Interruption - Giraudel\, Eggleston\, Upper Castle Comfort & Reigate
DESCRIPTION:DOWASCO apologizes to customers in GIRAUDEL\, EGGLESTON\, UPPER CASTLE COMFORT & REIGATE who have been experiencing interruptions in the water supply over the past few days. This is due to failure of the pump system\, which was damaged by lightning during the weather system over the past weekend.\nDOWASCO assures customers that every effort is being made to restore optimal operation of the network in the quickest possible time.\n\n\nDOWASCO regrets this inconvenience and thanks customers for their understanding.
URL:https://dowasco.dm/notice/water-interruption-giraudel-eggleston-upper-castle-comfort-reigate/
CATEGORIES:Unscheduled Interuptions
END:VEVENT
BEGIN:VEVENT
DTSTART;VALUE=DATE:20240628
DTEND;VALUE=DATE:20240629
DTSTAMP:20260423T125334
CREATED:20240628T130335Z
LAST-MODIFIED:20240628T130335Z
UID:6261-1719532800-1719619199@dowasco.dm
SUMMARY:WATER INTERRUPTION - RIVIERE CYRIQUE
DESCRIPTION:DOWASCO would like to apologise for the water interruption in Riviere Cyrique.\nThis is due to a broken supply line. Repair works will be undertaken today to have the service restored as soon as possible.\n\n\nDOWASCO regrets any inconvenience that may be caused and thanks customers and the general public for their understanding.
URL:https://dowasco.dm/notice/water-interruption-riviere-cyrique/
CATEGORIES:Unscheduled Interuptions
END:VEVENT
BEGIN:VEVENT
DTSTART;VALUE=DATE:20240611
DTEND;VALUE=DATE:20240612
DTSTAMP:20260423T125334
CREATED:20240612T140007Z
LAST-MODIFIED:20240612T140007Z
UID:6227-1718064000-1718150399@dowasco.dm
SUMMARY:Water Interruption
DESCRIPTION:WATER INTERRUPTION- ELEVATED COMMUNITIES IN WA1\n\n\nFORTUNE\nKINGSHILL\nBELFAST\nBELLEVUE RAWLE\nST. AROMENT\nWALLHOUSE\nCASTLE COMFORT\nCANEFIELD EAST\n\n\n\nDOWASCO informs customers in the communities mentioned above that they may experience interruption in their water supply today\, Tuesday\, June 11. This possible interruption is due to lower-than-usual water levels at Antrim.\n\n\n\n\nWe assure affected customers that every measure will be taken to resolve this challenge as quickly as possible.\n\n\nDOWASCO regrets the inconvenience and thanks customers for their understanding.
URL:https://dowasco.dm/notice/water-interruption/
CATEGORIES:Unscheduled Interuptions
END:VEVENT
END:VCALENDAR