BEGIN:VCALENDAR
VERSION:2.0
PRODID:-//DOWASCO Ltd. - ECPv6.15.20//NONSGML v1.0//EN
CALSCALE:GREGORIAN
METHOD:PUBLISH
X-ORIGINAL-URL:https://dowasco.dm
X-WR-CALDESC:Events for DOWASCO Ltd.
REFRESH-INTERVAL;VALUE=DURATION:PT1H
X-Robots-Tag:noindex
X-PUBLISHED-TTL:PT1H
BEGIN:VTIMEZONE
TZID:America/Halifax
BEGIN:DAYLIGHT
TZOFFSETFROM:-0400
TZOFFSETTO:-0300
TZNAME:ADT
DTSTART:20230312T060000
END:DAYLIGHT
BEGIN:STANDARD
TZOFFSETFROM:-0300
TZOFFSETTO:-0400
TZNAME:AST
DTSTART:20231105T050000
END:STANDARD
BEGIN:DAYLIGHT
TZOFFSETFROM:-0400
TZOFFSETTO:-0300
TZNAME:ADT
DTSTART:20240310T060000
END:DAYLIGHT
BEGIN:STANDARD
TZOFFSETFROM:-0300
TZOFFSETTO:-0400
TZNAME:AST
DTSTART:20241103T050000
END:STANDARD
BEGIN:DAYLIGHT
TZOFFSETFROM:-0400
TZOFFSETTO:-0300
TZNAME:ADT
DTSTART:20250309T060000
END:DAYLIGHT
BEGIN:STANDARD
TZOFFSETFROM:-0300
TZOFFSETTO:-0400
TZNAME:AST
DTSTART:20251102T050000
END:STANDARD
END:VTIMEZONE
BEGIN:VEVENT
DTSTART;TZID=America/Halifax:20240801T090000
DTEND;TZID=America/Halifax:20240801T150000
DTSTAMP:20260423T152836
CREATED:20240731T120836Z
LAST-MODIFIED:20240731T120836Z
UID:6285-1722502800-1722524400@dowasco.dm
SUMMARY:System Maintenance- Grand Bay\, Pichelin\, Geneva & Maranatha Square
DESCRIPTION:DOWASCO informs customers in GRAND BAY\, PICHELIN\, GENEVA and MARANATHA SQUARE that their water supply will be interrupted on Thursday\, August 1\, 2024 between 9:00 a.m. and 4:00 p.m. to carry out system maintenance.\n\n\nCustomers are encouraged to store water for use during the downtime.\n\n\nDOWASCO regrets any inconvenience that may be caused and thanks customers for their cooperation and understanding.
URL:https://dowasco.dm/notice/system-maintenance-grand-bay-pichelin-geneva-maranatha-square/
CATEGORIES:Schedule Interuptions
END:VEVENT
BEGIN:VEVENT
DTSTART;TZID=America/Halifax:20240731T090000
DTEND;TZID=America/Halifax:20240731T150000
DTSTAMP:20260423T152836
CREATED:20240730T150831Z
LAST-MODIFIED:20240730T150831Z
UID:6283-1722416400-1722438000@dowasco.dm
SUMMARY:System Maintenance - Laudat
DESCRIPTION:DOWASCO informs customers in LAUDAT that their water supply will be interrupted on Wednesday July 31st\, 2024 between 9:00 a.m. and 3:00 p.m. to carry out system maintenance.\n\n\nCustomers are encouraged to store water for the downtime.\n\n\nDOWASCO regrets any inconvenience that may be caused and thanks customers for their cooperation and understanding.
URL:https://dowasco.dm/notice/system-maintenance-laudat-2/
CATEGORIES:Schedule Interuptions
END:VEVENT
BEGIN:VEVENT
DTSTART;TZID=America/Halifax:20240730T090000
DTEND;TZID=America/Halifax:20240730T150000
DTSTAMP:20260423T152836
CREATED:20240730T150731Z
LAST-MODIFIED:20240730T150731Z
UID:6281-1722330000-1722351600@dowasco.dm
SUMMARY:System Maintenance - Laudat
DESCRIPTION:DOWASCO informs customers in LAUDAT that their water supply will be interrupted on Tuesday July 30th  2024 between 9:00 a.m. and 3:00 p.m. to carry out system maintenance.\n\n\nCustomers are encouraged to store water for the downtime.\n\n\nDOWASCO regrets any inconvenience that may be caused and thanks customers for their cooperation and understanding.
URL:https://dowasco.dm/notice/system-maintenance-laudat/
CATEGORIES:Schedule Interuptions
END:VEVENT
BEGIN:VEVENT
DTSTART;TZID=America/Halifax:20240725T090000
DTEND;TZID=America/Halifax:20240725T150000
DTSTAMP:20260423T152836
CREATED:20240724T165050Z
LAST-MODIFIED:20240724T165050Z
UID:6277-1721898000-1721919600@dowasco.dm
SUMMARY:System Maintenance - Stockfarm Yampiece & Bellevue Rawle
DESCRIPTION:DOWASCO informs customers in STOCKFARM\, YAMPIECE and BELLEVUE RAWLE that their water supply will be interrupted on Thursday\, July 25\, 2024 between 9:00 a.m. and 3:00 p.m. to carry out system maintenance.\n\n\nCustomers who will be affected are urged to store water for use during the downtime.\n\n\nDOWASCO regrets any inconvenience which may be caused and thanks customers for their cooperation and understanding.
URL:https://dowasco.dm/notice/system-maintenance-stockfarm-yampiece-bellevue-rawle/
CATEGORIES:Schedule Interuptions
END:VEVENT
BEGIN:VEVENT
DTSTART;VALUE=DATE:20240724
DTEND;VALUE=DATE:20240725
DTSTAMP:20260423T152836
CREATED:20240724T120419Z
LAST-MODIFIED:20240724T120419Z
UID:6275-1721779200-1721865599@dowasco.dm
SUMMARY:System Maintenance - Goodwill & Trafalgar
DESCRIPTION:DOWASCO informs customers in GOODWILL and TRAFALGAR that their water supply will be interrupted on Wednesday\, July 24\, 2024 between 9:00 a.m. and 3:00 p.m. to carry out system maintenance.\n\n\nCustomers who will be affected are urged to store water for the downtime.\n\n\nDOWASCO regrets any inconvenience which may be caused and thanks customers for their cooperation and understanding.
URL:https://dowasco.dm/notice/system-maintenance-goodwill-trafalgar/
CATEGORIES:Schedule Interuptions
END:VEVENT
END:VCALENDAR